BEGIN:VCALENDAR
VERSION:2.0
PRODID:-//Momma McCracken by Tc McCracken - ECPv6.15.20//NONSGML v1.0//EN
CALSCALE:GREGORIAN
METHOD:PUBLISH
X-WR-CALNAME:Momma McCracken by Tc McCracken
X-ORIGINAL-URL:https://mommamccracken.com
X-WR-CALDESC:Events for Momma McCracken by Tc McCracken
REFRESH-INTERVAL;VALUE=DURATION:PT1H
X-Robots-Tag:noindex
X-PUBLISHED-TTL:PT1H
BEGIN:VTIMEZONE
TZID:America/Denver
BEGIN:DAYLIGHT
TZOFFSETFROM:-0700
TZOFFSETTO:-0600
TZNAME:MDT
DTSTART:20180311T090000
END:DAYLIGHT
BEGIN:STANDARD
TZOFFSETFROM:-0600
TZOFFSETTO:-0700
TZNAME:MST
DTSTART:20181104T080000
END:STANDARD
BEGIN:DAYLIGHT
TZOFFSETFROM:-0700
TZOFFSETTO:-0600
TZNAME:MDT
DTSTART:20190310T090000
END:DAYLIGHT
BEGIN:STANDARD
TZOFFSETFROM:-0600
TZOFFSETTO:-0700
TZNAME:MST
DTSTART:20191103T080000
END:STANDARD
BEGIN:DAYLIGHT
TZOFFSETFROM:-0700
TZOFFSETTO:-0600
TZNAME:MDT
DTSTART:20200308T090000
END:DAYLIGHT
BEGIN:STANDARD
TZOFFSETFROM:-0600
TZOFFSETTO:-0700
TZNAME:MST
DTSTART:20201101T080000
END:STANDARD
END:VTIMEZONE
BEGIN:VEVENT
DTSTART;TZID=America/Denver:20190509T200000
DTEND;TZID=America/Denver:20190509T210000
DTSTAMP:20260423T090452
CREATED:20190417T141515Z
LAST-MODIFIED:20190417T141515Z
UID:163-1557432000-1557435600@mommamccracken.com
SUMMARY:Momma McCracken's Comedy Variety Show: Back in Black
DESCRIPTION:Momma McCracken’s Comedy Variety Show: Back in Black\nVoodoo Comedy: Denver\, CO  8-9pm  May 9\, 2019\nTickets  Momma McCracken is a comedy show that takes place in her closet.  Her show attire includes: standup comedy\, sketch comedy\, and improvised comedy. Upbeat music by Antonio Domenick and unconventional motherly advice are accessories always in the closet! Show producer\, Tc Clemons McCracken\, is one of the funny female comedians in the Denver comedy scene. Her comedy works in lots of adult content and inappropriate language. Making the closet a comedy zone for adults only! Get your tickets! Advance online tickets are $8 and $10 at the door. \nTickets      Facebook Page \nMay 9\, 2019 Voodoo Comedy: Denver\, CO \n 
URL:https://mommamccracken.com/event/momma-mccrackens-comedy-variety-show-back-in-black/
LOCATION:Voodoo Comedy Playhouse\, 1260 22nd St\, Denver\, CO\, 80205\, United States
ORGANIZER;CN="TC McCracken":MAILTO:info@voodoocomedy.com
END:VEVENT
END:VCALENDAR