BEGIN:VCALENDAR
VERSION:2.0
PRODID:-//Momma McCracken by Tc McCracken - ECPv6.15.20//NONSGML v1.0//EN
CALSCALE:GREGORIAN
METHOD:PUBLISH
X-ORIGINAL-URL:https://mommamccracken.com
X-WR-CALDESC:Events for Momma McCracken by Tc McCracken
REFRESH-INTERVAL;VALUE=DURATION:PT1H
X-Robots-Tag:noindex
X-PUBLISHED-TTL:PT1H
BEGIN:VTIMEZONE
TZID:America/Denver
BEGIN:DAYLIGHT
TZOFFSETFROM:-0700
TZOFFSETTO:-0600
TZNAME:MDT
DTSTART:20180311T090000
END:DAYLIGHT
BEGIN:STANDARD
TZOFFSETFROM:-0600
TZOFFSETTO:-0700
TZNAME:MST
DTSTART:20181104T080000
END:STANDARD
BEGIN:DAYLIGHT
TZOFFSETFROM:-0700
TZOFFSETTO:-0600
TZNAME:MDT
DTSTART:20190310T090000
END:DAYLIGHT
BEGIN:STANDARD
TZOFFSETFROM:-0600
TZOFFSETTO:-0700
TZNAME:MST
DTSTART:20191103T080000
END:STANDARD
BEGIN:DAYLIGHT
TZOFFSETFROM:-0700
TZOFFSETTO:-0600
TZNAME:MDT
DTSTART:20200308T090000
END:DAYLIGHT
BEGIN:STANDARD
TZOFFSETFROM:-0600
TZOFFSETTO:-0700
TZNAME:MST
DTSTART:20201101T080000
END:STANDARD
END:VTIMEZONE
BEGIN:VEVENT
DTSTART;TZID=America/Denver:20191010T200000
DTEND;TZID=America/Denver:20191010T210000
DTSTAMP:20260420T092932
CREATED:20190627T061647Z
LAST-MODIFIED:20190627T063322Z
UID:189-1570737600-1570741200@mommamccracken.com
SUMMARY:Momma McCracken: Variety Comedy Show
DESCRIPTION:Momma McCracken: Voodoo Comedy Variety Show\nMomma McCracken is a grounded-hilarious comedy show set in Momma’s closet.  It plays July 11\, 2019 thru Oct 10\, 2019 on the 2nd and 5th Thursday of the month at Voodoo Comedy in Denver.   Tickets at the door are $10 and tickets purchased online are $8.  Producer\, Tc McCracken\, accessorizes each show with a new theme and a variety of guest comedians doing stand up comedy\, sketch comedy\, and improvised comedy. Upbeat music by Antonio Domenick and Momma McCracken‘s unconventional motherly advice are accessories always in the closet!  This show isn’t for moms\, it is for everyone above the age of 21. Oh\, be warned…Momma talks to the audience!   \nThe show venue\, Voodoo Comedy\, offers a full bar! So if you’re looking for things to do in Denver on a Thursday – this is a sure bet for laughs!\nShow producer\, Tc McCracken\, is one of the funny female comedians in the Denver comedy scene. Her comedy works in lots of adult content and inappropriate language. Making the closet a comedy zone for adults only!   Get your tickets!  https://voodoocomedy.com/event/momma-mccrackens-variety-show/
URL:https://mommamccracken.com/event/momma-mccracken-variety-comedy-show-3/
LOCATION:Voodoo Comedy\, 1260 22nd St\,\, Denver\, CO\, 80205\, United States
ORGANIZER;CN="TC McCracken":MAILTO:info@voodoocomedy.com
END:VEVENT
BEGIN:VEVENT
DTSTART;TZID=America/Denver:20190912T200000
DTEND;TZID=America/Denver:20190912T210000
DTSTAMP:20260420T092932
CREATED:20190627T061207Z
LAST-MODIFIED:20190627T063150Z
UID:187-1568318400-1568322000@mommamccracken.com
SUMMARY:Momma McCracken: Variety Comedy Show
DESCRIPTION:Momma McCracken: Voodoo Comedy Variety Show\nMomma McCracken is a grounded-hilarious comedy show set in Momma’s closet.  It plays July 11\, 2019 thru Oct 10\, 2019 on the 2nd and 5th Thursday of the month at Voodoo Comedy in Denver.   Tickets at the door are $10 and tickets purchased online are $8.\nProducer\, Tc McCracken\, accessorizes each show with a new theme and a variety of guest comedians doing stand up comedy\, sketch comedy\, and improvised comedy. Upbeat music by Antonio Domenick and Momma McCracken‘s unconventional motherly advice are accessories always in the closet!  This show isn’t for moms\, it is for everyone above the age of 21. Oh\, be warned…Momma talks to the audience!\nThe show venue\, Voodoo Comedy\, offers a full bar! So if you’re looking for things to do in Denver on a Thursday – this is a sure bet for laughs! \nShow producer\, Tc McCracken\, is one of the funny female comedians in the Denver comedy scene. Her comedy works in lots of adult content and inappropriate language. Making the closet a comedy zone for adults only!   Get your tickets!  https://voodoocomedy.com/event/momma-mccrackens-variety-show/
URL:https://mommamccracken.com/event/momma-mccracken-variety-comedy-show-2/
LOCATION:Voodoo Comedy\, 1260 22nd St\,\, Denver\, CO\, 80205\, United States
ORGANIZER;CN="TC McCracken":MAILTO:info@voodoocomedy.com
END:VEVENT
BEGIN:VEVENT
DTSTART;TZID=America/Denver:20190829T200000
DTEND;TZID=America/Denver:20190829T210000
DTSTAMP:20260420T092932
CREATED:20190627T060841Z
LAST-MODIFIED:20190627T063019Z
UID:185-1567108800-1567112400@mommamccracken.com
SUMMARY:Momma McCracken: Variety Comedy Show
DESCRIPTION:Momma McCracken: Voodoo Comedy Variety Show\nMomma McCracken is a grounded-hilarious comedy show set in Momma’s closet.  It plays July 11\, 2019 thru Oct 10\, 2019 on the 2nd and 5th Thursday of the month at Voodoo Comedy in Denver.   Tickets at the door are $10 and tickets purchased online are $8.\nProducer\, Tc Clemons McCracken\, accessorizes each show with a new theme and a variety of guest comedians doing stand up comedy\, sketch comedy\, and improvised comedy. Upbeat music by Antonio Domenick and Momma McCracken‘s unconventional motherly advice are accessories always in the closet!  This show isn’t for moms\, it is for everyone above the age of 21. Oh\, be warned…Momma talks to the audience!\nThe show venue\, Voodoo Comedy\, offers a full bar! So if you’re looking for things to do in Denver on a Thursday – this is a sure bet for laughs!\nShow producer\, Tc Clemons McCracken\, is one of the funny female comedians in the Denver comedy scene. Her comedy works in lots of adult content and inappropriate language. Making the closet a comedy zone for adults only! 
URL:https://mommamccracken.com/event/momma-mccracken-variety-comedy-show/
LOCATION:Voodoo Comedy\, 1260 22nd St\,\, Denver\, CO\, 80205\, United States
ORGANIZER;CN="TC McCracken":MAILTO:info@voodoocomedy.com
END:VEVENT
BEGIN:VEVENT
DTSTART;TZID=America/Denver:20190808T200000
DTEND;TZID=America/Denver:20190808T210000
DTSTAMP:20260420T092932
CREATED:20190627T060420Z
LAST-MODIFIED:20190627T062918Z
UID:181-1565294400-1565298000@mommamccracken.com
SUMMARY:Momma McCracken: Variety Comedy Show
DESCRIPTION:Momma McCracken: Voodoo Comedy Variety Show\nMomma McCracken is a grounded-hilarious comedy show set in Momma’s closet.  It plays July 11\, 2019 thru Oct 10\, 2019 on the 2nd and 5th Thursday of the month at Voodoo Comedy in Denver.   Tickets at the door are $10 and tickets purchased online are $8.\nProducer\, Tc Clemons McCracken\, accessorizes each show with a new theme and a variety of guest comedians doing stand up comedy\, sketch comedy\, and improvised comedy. Upbeat music by Antonio Domenick and Momma McCracken‘s unconventional motherly advice are accessories always in the closet!  This show isn’t for moms\, it is for everyone above the age of 21. Oh\, be warned…Momma talks to the audience!  The show venue\, Voodoo Comedy\, offers a full bar! So if you’re looking for things to do in Denver on a Thursday – this is a sure bet for laughs!  Show producer\, Tc Clemons McCracken\, is one of the funny female comedians in the Denver comedy scene. Her comedy works in lots of adult content and inappropriate language. Making the closet a comedy zone for adults only! 
URL:https://mommamccracken.com/event/momma-m/
LOCATION:Voodoo Comedy\, 1260 22nd St\,\, Denver\, CO\, 80205\, United States
ORGANIZER;CN="TC McCracken":MAILTO:info@voodoocomedy.com
END:VEVENT
BEGIN:VEVENT
DTSTART;TZID=America/Denver:20190711T200000
DTEND;TZID=America/Denver:20190711T210000
DTSTAMP:20260420T092932
CREATED:20190627T055942Z
LAST-MODIFIED:20190627T062813Z
UID:178-1562875200-1562878800@mommamccracken.com
SUMMARY:Momma McCracken: Get Lucky
DESCRIPTION:Momma McCracken: Voodoo Comedy Variety Show\nMomma McCracken is a grounded-hilarious comedy show set in Momma’s closet.  It plays July 11\, 2019 thru Oct 10\, 2019 on the 2nd and 5th Thursday of the month at Voodoo Comedy in Denver.   Tickets at the door are $10 and tickets purchased online are $8.\nProducer\, Tc Clemons McCracken\, accessorizes each show with a new theme and a variety of guest comedians doing stand up comedy\, sketch comedy\, and improvised comedy. Upbeat music by Antonio Domenick and Momma McCracken‘s unconventional motherly advice are accessories always in the closet!  This show isn’t for moms\, it is for everyone above the age of 21. Oh\, be warned…Momma talks to the audience! \nThe show venue\, Voodoo Comedy\, offers a full bar! So if you’re looking for things to do in Denver on a Thursday – this is a sure bet for laughs! \nShow producer\, Tc Clemons McCracken\, is one of the funny female comedians in the Denver comedy scene. Her comedy works in lots of adult content and inappropriate language. Making the closet a comedy zone for adults only!   Get your tickets! https://voodoocomedy.com/event/momma-mccrackens-variety-show/ \nJuly 11th Show: Theme is Get Lucky\nGabby Gutierrez-Reed – Stand Up Comedian\nCorey Garretson – Stoosh Poem Comedian\n** Patrick Knaubert – Show Guest Musician THIS SHOW ONLY \nMomma McCracken FaceBook: https://www.facebook.com/MommaMcCracken/ \n 
URL:https://mommamccracken.com/event/momma-mccracken-get-lucky/
LOCATION:Voodoo Comedy\, 1260 22nd St\,\, Denver\, CO\, 80205\, United States
END:VEVENT
BEGIN:VEVENT
DTSTART;TZID=America/Denver:20190613T200000
DTEND;TZID=America/Denver:20190613T210000
DTSTAMP:20260420T092932
CREATED:20190417T144027Z
LAST-MODIFIED:20190417T144027Z
UID:169-1560456000-1560459600@mommamccracken.com
SUMMARY:Momma McCracken Comedy Variety Show
DESCRIPTION:Momma McCracken’s Comedy Variety Show: Flag Day\nVoodoo Comedy: Denver\, CO – June 13\, 2019\nTickets Momma McCracken is back at Voodoo Comedy on June 13\, 2019.  Momma McCracken is a comedy show that takes place in her closet. Her show attire includes: stand up comedy\, sketch comedy\, and improvised comedy. Upbeat music by Antonio Domenick and unconventional motherly advice are accessories always in the closet! Show producer\, TC McCracken\, is one of the funny female comedians in the Denver comedy scene. She created the character\, Momma McCracken. Momma processes outlandish life stories\, converses with the audience and offers unconventional candid wisdom. Her comedy works in lots of adult content and inappropriate language. Making the closet a comedy zone for adults only! Every show is packed with new content and guests\, so visit the closet often!  Tickets \nFacebook Page \nJune 13\, 2019: Denver Colorado-Funny Comedy Show \n 
URL:https://mommamccracken.com/event/momma-mccracken-comedy-variety-show/
LOCATION:Voodoo Comedy\, 1260 22nd St\,\, Denver\, CO\, 80205\, United States
ORGANIZER;CN="TC McCracken":MAILTO:info@voodoocomedy.com
END:VEVENT
BEGIN:VEVENT
DTSTART;TZID=America/Denver:20190509T200000
DTEND;TZID=America/Denver:20190509T210000
DTSTAMP:20260420T092932
CREATED:20190417T141515Z
LAST-MODIFIED:20190417T141515Z
UID:163-1557432000-1557435600@mommamccracken.com
SUMMARY:Momma McCracken's Comedy Variety Show: Back in Black
DESCRIPTION:Momma McCracken’s Comedy Variety Show: Back in Black\nVoodoo Comedy: Denver\, CO  8-9pm  May 9\, 2019\nTickets  Momma McCracken is a comedy show that takes place in her closet.  Her show attire includes: standup comedy\, sketch comedy\, and improvised comedy. Upbeat music by Antonio Domenick and unconventional motherly advice are accessories always in the closet! Show producer\, Tc Clemons McCracken\, is one of the funny female comedians in the Denver comedy scene. Her comedy works in lots of adult content and inappropriate language. Making the closet a comedy zone for adults only! Get your tickets! Advance online tickets are $8 and $10 at the door. \nTickets      Facebook Page \nMay 9\, 2019 Voodoo Comedy: Denver\, CO \n 
URL:https://mommamccracken.com/event/momma-mccrackens-comedy-variety-show-back-in-black/
LOCATION:Voodoo Comedy Playhouse\, 1260 22nd St\, Denver\, CO\, 80205\, United States
ORGANIZER;CN="TC McCracken":MAILTO:info@voodoocomedy.com
END:VEVENT
END:VCALENDAR